BEGIN:VCALENDAR
VERSION:2.0
PRODID:-//ChamberMaster//Event Calendar 2.0//EN
METHOD:PUBLISH
X-PUBLISHED-TTL:P3D
REFRESH-INTERVAL:P3D
CALSCALE:GREGORIAN
BEGIN:VEVENT
DTSTART:20200624T120000Z
DTEND:20200624T130000Z
X-MICROSOFT-CDO-ALLDAYEVENT:FALSE
SUMMARY:Virtual - Plain City Business Association (PCBA)
DESCRIPTION:PCBA\n\n\n\nSpeaker: Valerie Biehl\n\nTopic: Do You Want a Winning Team?\n\nSponsor:\n\nRaffle:
X-ALT-DESC;FMTTYPE=text/html:PCBA<br />\n<br />\nSpeaker: Valerie Biehl<br />\nTopic: Do You Want a Winning Team?<br />\nSponsor:<br />\nRaffle:
LOCATION:
UID:e.1767.7470
SEQUENCE:3
DTSTAMP:20260425T140247Z
URL:https://unioncounty.smallnation.co/events/details/virtual-plain-city-business-association-pcba-06-24-2020-7470
END:VEVENT

END:VCALENDAR
