BEGIN:VCALENDAR
VERSION:2.0
PRODID:-//ChamberMaster//Event Calendar 2.0//EN
METHOD:PUBLISH
X-PUBLISHED-TTL:P3D
REFRESH-INTERVAL:P3D
CALSCALE:GREGORIAN
BEGIN:VEVENT
DTSTART:20200617T120000Z
DTEND:20200617T130000Z
X-MICROSOFT-CDO-ALLDAYEVENT:FALSE
SUMMARY:Virtual - Marysville Business Association
DESCRIPTION:Marysville Business Association\n\nSpeaker/Topic: Generations in Business Panel\n\nRaffle Sponsor: Edward Jones - Mandy Beecher\n\nBreakfast Sponsor: The Hope Center\n\n10 Minute Spotlight: The Hope Center
X-ALT-DESC;FMTTYPE=text/html:Marysville Business Association<br />\nSpeaker/Topic: Generations in Business Panel<br />\nRaffle Sponsor: Edward Jones - Mandy Beecher<br />\nBreakfast Sponsor: The Hope Center<br />\n10 Minute Spotlight: The Hope Center
LOCATION:
UID:e.1767.12966
SEQUENCE:3
DTSTAMP:20260425T140512Z
URL:https://unioncounty.smallnation.co/events/details/virtual-marysville-business-association-06-17-2020-12966
END:VEVENT

END:VCALENDAR
