BEGIN:VCALENDAR
VERSION:2.0
PRODID:-//ChamberMaster//Event Calendar 2.0//EN
METHOD:PUBLISH
X-PUBLISHED-TTL:P3D
REFRESH-INTERVAL:P3D
CALSCALE:GREGORIAN
BEGIN:VEVENT
DTSTART:20200526T153000Z
DTEND:20200526T163000Z
X-MICROSOFT-CDO-ALLDAYEVENT:FALSE
SUMMARY:Virtual - Healthcare Providers Association
DESCRIPTION:Healthcare Providers
X-ALT-DESC;FMTTYPE=text/html:Healthcare Providers
LOCATION:Chamber Office 227 E. Fifth St. Marysville
UID:e.1767.7010
SEQUENCE:3
DTSTAMP:20260425T153019Z
URL:https://unioncounty.smallnation.co/events/details/virtual-healthcare-providers-association-7010
END:VEVENT

END:VCALENDAR
