BEGIN:VCALENDAR
VERSION:2.0
PRODID:-//ChamberMaster//Event Calendar 2.0//EN
METHOD:PUBLISH
X-PUBLISHED-TTL:P3D
REFRESH-INTERVAL:P3D
CALSCALE:GREGORIAN
BEGIN:VEVENT
DTSTART:20200623T153000Z
DTEND:20200623T163000Z
X-MICROSOFT-CDO-ALLDAYEVENT:FALSE
SUMMARY:Virtual - Healthcare Providers Association
DESCRIPTION:Healthcare Providers
X-ALT-DESC;FMTTYPE=text/html:Healthcare Providers
LOCATION:
UID:e.1767.7011
SEQUENCE:3
DTSTAMP:20260425T140406Z
URL:https://unioncounty.smallnation.co/events/details/virtual-healthcare-providers-association-06-23-2020-7011
END:VEVENT

END:VCALENDAR
