BEGIN:VCALENDAR
VERSION:2.0
PRODID:-//ChamberMaster//Event Calendar 2.0//EN
METHOD:PUBLISH
X-PUBLISHED-TTL:P3D
REFRESH-INTERVAL:P3D
CALSCALE:GREGORIAN
BEGIN:VEVENT
DTSTART:20240509T153000Z
DTEND:20240509T170000Z
X-MICROSOFT-CDO-ALLDAYEVENT:FALSE
SUMMARY:Union County Safety & Health Council
DESCRIPTION:Union County Safety & Health Council Meeting\n\nTopic - Financial Wellness
X-ALT-DESC;FMTTYPE=text/html:Union County Safety &amp\; Health Council Meeting<br />\nTopic - Financial Wellness
LOCATION:Union County Services Building 940 London Avenue Marysville\, 43040
UID:e.1767.14028
SEQUENCE:3
DTSTAMP:20260422T090150Z
URL:https://unioncounty.smallnation.co/events/details/union-county-safety-health-council-14028
END:VEVENT

END:VCALENDAR
