BEGIN:VCALENDAR
VERSION:2.0
PRODID:-//ChamberMaster//Event Calendar 2.0//EN
METHOD:PUBLISH
X-PUBLISHED-TTL:P3D
REFRESH-INTERVAL:P3D
CALSCALE:GREGORIAN
BEGIN:VEVENT
DTSTART:20220119T163000Z
DTEND:20220119T173000Z
X-MICROSOFT-CDO-ALLDAYEVENT:FALSE
SUMMARY:Union County Safety Council - UCSC
DESCRIPTION:Safety Council Meeting\n\nTopic: Developing Respect in your Workplace\n\nSpeaker:  Scott Warrick
X-ALT-DESC;FMTTYPE=text/html:Safety Council Meeting<br />\nTopic: Developing Respect in your Workplace<br />\nSpeaker:&nbsp\; Scott Warrick
LOCATION:Via Zoom - you will receive the Zoom link in a registration confirmation email
UID:e.1767.7943
SEQUENCE:3
DTSTAMP:20260422T115935Z
URL:https://unioncounty.smallnation.co/events/details/union-county-safety-council-ucsc-7943
END:VEVENT

END:VCALENDAR
