BEGIN:VCALENDAR
VERSION:2.0
PRODID:-//ChamberMaster//Event Calendar 2.0//EN
METHOD:PUBLISH
X-PUBLISHED-TTL:P3D
REFRESH-INTERVAL:P3D
CALSCALE:GREGORIAN
BEGIN:VEVENT
DTSTART:20220209T163000Z
DTEND:20220209T173000Z
X-MICROSOFT-CDO-ALLDAYEVENT:FALSE
SUMMARY:Union County Safety Council
DESCRIPTION:Safety Council Meeting\n\nTopic - What's New at OSHA
X-ALT-DESC;FMTTYPE=text/html:Safety Council Meeting<br />\nTopic - What&#39\;s New at OSHA
LOCATION:Via Zoom
UID:e.1767.7944
SEQUENCE:3
DTSTAMP:20260422T101848Z
URL:https://unioncounty.smallnation.co/events/details/union-county-safety-council-7944
END:VEVENT

END:VCALENDAR
