BEGIN:VCALENDAR
VERSION:2.0
PRODID:-//ChamberMaster//Event Calendar 2.0//EN
METHOD:PUBLISH
X-PUBLISHED-TTL:P3D
REFRESH-INTERVAL:P3D
CALSCALE:GREGORIAN
BEGIN:VEVENT
DTSTART:20210511T133000Z
DTEND:20210511T143000Z
X-MICROSOFT-CDO-ALLDAYEVENT:FALSE
SUMMARY:Tourism Talk - Partner Idea Exchange
DESCRIPTION:Tourism Talk - Partner Idea Exchange
X-ALT-DESC;FMTTYPE=text/html:Tourism Talk - Partner Idea Exchange
LOCATION:
UID:e.1767.13148
SEQUENCE:3
DTSTAMP:20260422T231346Z
URL:https://unioncounty.smallnation.co/events/details/tourism-talk-partner-idea-exchange-13148
END:VEVENT

END:VCALENDAR
