BEGIN:VCALENDAR
VERSION:2.0
PRODID:-//ChamberMaster//Event Calendar 2.0//EN
METHOD:PUBLISH
X-PUBLISHED-TTL:P3D
REFRESH-INTERVAL:P3D
CALSCALE:GREGORIAN
BEGIN:VEVENT
DTSTART:20200731T130000Z
DTEND:20200731T190000Z
X-MICROSOFT-CDO-ALLDAYEVENT:FALSE
SUMMARY:St. John's Lutheran School - Virtual Open House
DESCRIPTION:Virtual Open House\n\nOn-site visits available by appointment
X-ALT-DESC;FMTTYPE=text/html:Virtual Open House<br />\nOn-site visits available by appointment
LOCATION:St. John's Lutheran School 12809 St. Rt. 736 Marysville
UID:e.1767.13111
SEQUENCE:3
DTSTAMP:20260425T124159Z
URL:https://unioncounty.smallnation.co/events/details/st-john-s-lutheran-school-virtual-open-house-07-31-2020-13111
END:VEVENT

END:VCALENDAR
