BEGIN:VCALENDAR
VERSION:2.0
PRODID:-//ChamberMaster//Event Calendar 2.0//EN
METHOD:PUBLISH
X-PUBLISHED-TTL:P3D
REFRESH-INTERVAL:P3D
CALSCALE:GREGORIAN
BEGIN:VEVENT
DTSTART:20240229T230000Z
DTEND:20240301T010000Z
X-MICROSOFT-CDO-ALLDAYEVENT:FALSE
SUMMARY:Special Business Impact Event - Meet the Candidates
DESCRIPTION:Join us to hear from candidates for the 2024 Primary Election and to learn about school levies and other issues on the ballot.
X-ALT-DESC;FMTTYPE=text/html:Join us to hear from candidates for the 2024 Primary Election and to learn about school levies and other issues on the ballot.
LOCATION:Union Rural Electric Cooperative 15461 US Highway 36 Marysville
UID:e.1767.13583
SEQUENCE:3
DTSTAMP:20260420T215038Z
URL:https://unioncounty.smallnation.co/events/details/special-business-impact-event-meet-the-candidates-13583
END:VEVENT

END:VCALENDAR
