BEGIN:VCALENDAR
VERSION:2.0
PRODID:-//ChamberMaster//Event Calendar 2.0//EN
METHOD:PUBLISH
X-PUBLISHED-TTL:P3D
REFRESH-INTERVAL:P3D
CALSCALE:GREGORIAN
BEGIN:VEVENT
DTSTART:20240409T160000Z
DTEND:20240409T170000Z
X-MICROSOFT-CDO-ALLDAYEVENT:FALSE
SUMMARY:Richwood Area Business Association (RABA)
DESCRIPTION:Richwood Area Business Association monthly meeting\n\nSpeaker North Union Local School District
X-ALT-DESC;FMTTYPE=text/html:Richwood Area Business Association monthly meeting<br />\nSpeaker North Union Local School District
LOCATION:North Union Local School District Office 12920 State Route 739 Richwood\, OH 43344
UID:e.1767.13768
SEQUENCE:3
DTSTAMP:20260420T181916Z
URL:https://unioncounty.smallnation.co/events/details/richwood-area-business-association-raba-13768
END:VEVENT

END:VCALENDAR
