BEGIN:VCALENDAR
VERSION:2.0
PRODID:-//ChamberMaster//Event Calendar 2.0//EN
METHOD:PUBLISH
X-PUBLISHED-TTL:P3D
REFRESH-INTERVAL:P3D
CALSCALE:GREGORIAN
BEGIN:VEVENT
DTSTART:20231212T170000Z
DTEND:20231212T180000Z
X-MICROSOFT-CDO-ALLDAYEVENT:FALSE
SUMMARY:Richwood Area Business Association
DESCRIPTION:Richwood Area Business Association\n\nSpeaker: Richwood Bank
X-ALT-DESC;FMTTYPE=text/html:Richwood Area Business Association<br />\nSpeaker: Richwood Bank
LOCATION:North Union Public Library 4 East Ottawa Street\, Richwood
UID:e.1767.6793
SEQUENCE:3
DTSTAMP:20260421T010156Z
URL:https://unioncounty.smallnation.co/events/details/richwood-area-business-association-12-12-2023-6793
END:VEVENT

END:VCALENDAR
