BEGIN:VCALENDAR
VERSION:2.0
PRODID:-//ChamberMaster//Event Calendar 2.0//EN
METHOD:PUBLISH
X-PUBLISHED-TTL:P3D
REFRESH-INTERVAL:P3D
CALSCALE:GREGORIAN
BEGIN:VEVENT
DTSTART:20231114T170000Z
DTEND:20231114T180000Z
X-MICROSOFT-CDO-ALLDAYEVENT:FALSE
SUMMARY:Richwood Area Business Association
DESCRIPTION:Richwood Area Business Association\n\nSpeaker: Care Train of Union County
X-ALT-DESC;FMTTYPE=text/html:Richwood Area Business Association<br />\nSpeaker: Care Train of Union County
LOCATION:North Union Public Library 4 East Ottawa Street\, Richwood
UID:e.1767.6792
SEQUENCE:3
DTSTAMP:20260421T041510Z
URL:https://unioncounty.smallnation.co/events/details/richwood-area-business-association-11-14-2023-6792
END:VEVENT

END:VCALENDAR
