BEGIN:VCALENDAR
VERSION:2.0
PRODID:-//ChamberMaster//Event Calendar 2.0//EN
METHOD:PUBLISH
X-PUBLISHED-TTL:P3D
REFRESH-INTERVAL:P3D
CALSCALE:GREGORIAN
BEGIN:VEVENT
DTSTART:20220913T160000Z
DTEND:20220913T170000Z
X-MICROSOFT-CDO-ALLDAYEVENT:FALSE
SUMMARY:Richwood Area Business Association
DESCRIPTION:Richwood Area Business Association\n\nTopic: Union County Board of Developmental Disabilities
X-ALT-DESC;FMTTYPE=text/html:Richwood Area Business Association<br />\nTopic: Union County Board of Developmental Disabilities
LOCATION:North Union Public Library 4 East Ottawa Street\, Richwood
UID:e.1767.6778
SEQUENCE:3
DTSTAMP:20260422T011536Z
URL:https://unioncounty.smallnation.co/events/details/richwood-area-business-association-09-13-2022-6778
END:VEVENT

END:VCALENDAR
