BEGIN:VCALENDAR
VERSION:2.0
PRODID:-//ChamberMaster//Event Calendar 2.0//EN
METHOD:PUBLISH
X-PUBLISHED-TTL:P3D
REFRESH-INTERVAL:P3D
CALSCALE:GREGORIAN
BEGIN:VEVENT
DTSTART:20210511T160000Z
DTEND:20210511T170000Z
X-MICROSOFT-CDO-ALLDAYEVENT:FALSE
SUMMARY:Richwood Area Business Association
DESCRIPTION:Richwood Area Business Association\n\nSpeaker Shine FM
X-ALT-DESC;FMTTYPE=text/html:Richwood Area Business Association<br />\nSpeaker Shine FM
LOCATION:Via WebEx
UID:e.1767.6762
SEQUENCE:3
DTSTAMP:20260422T232715Z
URL:https://unioncounty.smallnation.co/events/details/richwood-area-business-association-05-11-2021-6762
END:VEVENT

END:VCALENDAR
