BEGIN:VCALENDAR
VERSION:2.0
PRODID:-//ChamberMaster//Event Calendar 2.0//EN
METHOD:PUBLISH
X-PUBLISHED-TTL:P3D
REFRESH-INTERVAL:P3D
CALSCALE:GREGORIAN
BEGIN:VEVENT
DTSTART:20220510T160000Z
DTEND:20220510T170000Z
X-MICROSOFT-CDO-ALLDAYEVENT:FALSE
SUMMARY:Richwood Area Business Association
DESCRIPTION:Richwood Area Business Association\n\nTopic: Union County Convention & Visitors Bureau
X-ALT-DESC;FMTTYPE=text/html:Richwood Area Business Association<br />\nTopic: Union County Convention &amp\; Visitors Bureau
LOCATION:Richwood Public Library 4 East Ottawa Street\, Richwood
UID:e.1767.6774
SEQUENCE:3
DTSTAMP:20260422T073156Z
URL:https://unioncounty.smallnation.co/events/details/richwood-area-business-association-05-10-2022-6774
END:VEVENT

END:VCALENDAR
