BEGIN:VCALENDAR
VERSION:2.0
PRODID:-//ChamberMaster//Event Calendar 2.0//EN
METHOD:PUBLISH
X-PUBLISHED-TTL:P3D
REFRESH-INTERVAL:P3D
CALSCALE:GREGORIAN
BEGIN:VEVENT
DTSTART:20230314T160000Z
DTEND:20230314T170000Z
X-MICROSOFT-CDO-ALLDAYEVENT:FALSE
SUMMARY:Richwood Area Business Association
DESCRIPTION:Richwood Area Business Association\n\nSpeaker: Richard Bair\, Superintendent of North Union Local Schools
X-ALT-DESC;FMTTYPE=text/html:Richwood Area Business Association<br />\nSpeaker: Richard Bair\, Superintendent of North Union Local Schools
LOCATION:North Union Local School District Office 12920 State Route 739\, Richwood
UID:e.1767.6784
SEQUENCE:3
DTSTAMP:20260421T142535Z
URL:https://unioncounty.smallnation.co/events/details/richwood-area-business-association-03-14-2023-6784
END:VEVENT

END:VCALENDAR
