BEGIN:VCALENDAR
VERSION:2.0
PRODID:-//ChamberMaster//Event Calendar 2.0//EN
METHOD:PUBLISH
X-PUBLISHED-TTL:P3D
REFRESH-INTERVAL:P3D
CALSCALE:GREGORIAN
BEGIN:VEVENT
DTSTART:20210309T170000Z
DTEND:20210309T180000Z
X-MICROSOFT-CDO-ALLDAYEVENT:FALSE
SUMMARY:Richwood Area Business Association
DESCRIPTION:Richwood Area Business Association\n\n\n\nSpeaker: Big Brothers Big Sisters of Central Ohio
X-ALT-DESC;FMTTYPE=text/html:Richwood Area Business Association<br />\n<br />\nSpeaker: Big Brothers Big Sisters of Central Ohio
LOCATION:Via WebEx
UID:e.1767.6760
SEQUENCE:3
DTSTAMP:20260423T032606Z
URL:https://unioncounty.smallnation.co/events/details/richwood-area-business-association-03-09-2021-6760
END:VEVENT

END:VCALENDAR
