BEGIN:VCALENDAR
VERSION:2.0
PRODID:-//ChamberMaster//Event Calendar 2.0//EN
METHOD:PUBLISH
X-PUBLISHED-TTL:P3D
REFRESH-INTERVAL:P3D
CALSCALE:GREGORIAN
BEGIN:VEVENT
DTSTART:20220617T150000Z
DTEND:20220617T180000Z
X-MICROSOFT-CDO-ALLDAYEVENT:FALSE
SUMMARY:Ribbon Cutting - Warner Industrial Corporate Centers
DESCRIPTION:Helps us celebrate the Grand Opening of Warner Industrial Corporate Centers. Open House will be from 11:00 AM to 2:00 PM\, and the ribbon will be cut at 11:30 AM. Enjoy food & meet the business tenants!
X-ALT-DESC;FMTTYPE=text/html:Helps us celebrate the Grand Opening of Warner Industrial Corporate Centers. Open House will be from 11:00 AM to 2:00 PM\, and the ribbon will be cut at 11:30 AM. Enjoy food &amp\; meet the business tenants!
LOCATION:8510 Warner Road Suite 100 Plain City\, Ohio 43064
UID:e.1767.13383
SEQUENCE:3
DTSTAMP:20260422T044027Z
URL:https://unioncounty.smallnation.co/events/details/ribbon-cutting-warner-industrial-corporate-centers-13383
END:VEVENT

END:VCALENDAR
