BEGIN:VCALENDAR
VERSION:2.0
PRODID:-//ChamberMaster//Event Calendar 2.0//EN
METHOD:PUBLISH
X-PUBLISHED-TTL:P3D
REFRESH-INTERVAL:P3D
CALSCALE:GREGORIAN
BEGIN:VEVENT
DTSTART:20220830T150000Z
DTEND:20220830T170000Z
X-MICROSOFT-CDO-ALLDAYEVENT:FALSE
SUMMARY:Ribbon Cutting - Michele Mercer Licensed Insurance Agency
DESCRIPTION:Helps us celebrate the Opening of Michele Mercer Licensed Insurance Agency. Open House with refreshments will be from 11:00 AM to 1:00 PM\, and the ribbon will be cut at 11:30 AM.
X-ALT-DESC;FMTTYPE=text/html:Helps us celebrate the Opening of Michele Mercer Licensed Insurance Agency. Open House with refreshments will be from 11:00 AM to 1:00 PM\, and the ribbon will be cut at 11:30 AM.
LOCATION:5935 Wilcox Place Unit F Dublin\, Ohio 43016
UID:e.1767.13396
SEQUENCE:3
DTSTAMP:20260422T011649Z
URL:https://unioncounty.smallnation.co/events/details/ribbon-cutting-michele-mercer-licensed-insurance-agency-13396
END:VEVENT

END:VCALENDAR
