BEGIN:VCALENDAR
VERSION:2.0
PRODID:-//ChamberMaster//Event Calendar 2.0//EN
METHOD:PUBLISH
X-PUBLISHED-TTL:P3D
REFRESH-INTERVAL:P3D
CALSCALE:GREGORIAN
BEGIN:VEVENT
DTSTART:20221021T200000Z
DTEND:20221021T210000Z
X-MICROSOFT-CDO-ALLDAYEVENT:FALSE
SUMMARY:Ribbon Cutting - Heritage Senior Living of Marysville
DESCRIPTION:Helps us celebrate the Grand Opening of Heritage Senior Living of Marysville.
X-ALT-DESC;FMTTYPE=text/html:Helps us celebrate the Grand Opening of Heritage Senior Living of Marysville.
LOCATION:1565 London Avenue Marysville\, Ohio 43040
UID:e.1767.13399
SEQUENCE:3
DTSTAMP:20260421T234105Z
URL:https://unioncounty.smallnation.co/events/details/ribbon-cutting-heritage-senior-living-of-marysville-13399
END:VEVENT

END:VCALENDAR
