BEGIN:VCALENDAR
VERSION:2.0
PRODID:-//ChamberMaster//Event Calendar 2.0//EN
METHOD:PUBLISH
X-PUBLISHED-TTL:P3D
REFRESH-INTERVAL:P3D
CALSCALE:GREGORIAN
BEGIN:VEVENT
DTSTART:20220711T143000Z
DTEND:20220711T153000Z
X-MICROSOFT-CDO-ALLDAYEVENT:FALSE
SUMMARY:Ribbon Cutting - City Barbeque
DESCRIPTION:Grand Opening Ribbon Cutting for City Barbeque
X-ALT-DESC;FMTTYPE=text/html:Grand Opening Ribbon Cutting for City Barbeque
LOCATION:7320 State Route 161 Plain City\, Ohio
UID:e.1767.13388
SEQUENCE:3
DTSTAMP:20260422T024722Z
URL:https://unioncounty.smallnation.co/events/details/ribbon-cutting-city-barbeque-13388
END:VEVENT

END:VCALENDAR
