BEGIN:VCALENDAR
VERSION:2.0
PRODID:-//ChamberMaster//Event Calendar 2.0//EN
METHOD:PUBLISH
X-PUBLISHED-TTL:P3D
REFRESH-INTERVAL:P3D
CALSCALE:GREGORIAN
BEGIN:VEVENT
DTSTART:20240412T170000Z
DTEND:20240412T173000Z
X-MICROSOFT-CDO-ALLDAYEVENT:FALSE
SUMMARY:Ribbon Cutting - Build Cowork + Space
DESCRIPTION:Grand Opening Ribbon Cutting for Build Cowork + Space
X-ALT-DESC;FMTTYPE=text/html:Grand Opening Ribbon Cutting for Build Cowork + Space
LOCATION:129 North Main Street Marysville
UID:e.1767.13637
SEQUENCE:3
DTSTAMP:20260420T181909Z
URL:https://unioncounty.smallnation.co/events/details/ribbon-cutting-build-cowork-space-13637
END:VEVENT

END:VCALENDAR
