BEGIN:VCALENDAR
VERSION:2.0
PRODID:-//ChamberMaster//Event Calendar 2.0//EN
METHOD:PUBLISH
X-PUBLISHED-TTL:P3D
REFRESH-INTERVAL:P3D
CALSCALE:GREGORIAN
BEGIN:VEVENT
DTSTART:20210129T180000Z
DTEND:20210129T190000Z
X-MICROSOFT-CDO-ALLDAYEVENT:FALSE
SUMMARY:Ribbon Cutting: Brittany Freeman State Farm
DESCRIPTION:Come help us celebrate the Grand Opening of Brittany Freeman State Farm with a Ribbon Cutting!
X-ALT-DESC;FMTTYPE=text/html:Come help us celebrate the Grand Opening of Brittany Freeman State Farm with a Ribbon Cutting!
LOCATION:240 West Fifth Street Marysville\, OH 43040
UID:e.1767.13142
SEQUENCE:3
DTSTAMP:20260423T043709Z
URL:https://unioncounty.smallnation.co/events/details/ribbon-cutting-brittany-freeman-state-farm-13142
END:VEVENT

END:VCALENDAR
