BEGIN:VCALENDAR
VERSION:2.0
PRODID:-//ChamberMaster//Event Calendar 2.0//EN
METHOD:PUBLISH
X-PUBLISHED-TTL:P3D
REFRESH-INTERVAL:P3D
CALSCALE:GREGORIAN
BEGIN:VEVENT
DTSTART:20241120T130000Z
DTEND:20241120T140000Z
X-MICROSOFT-CDO-ALLDAYEVENT:FALSE
SUMMARY:Plain City Business Association (PCBA)
DESCRIPTION:PCBA\n\nTopic: Embracing Failure & Celebrating Success
X-ALT-DESC;FMTTYPE=text/html:PCBA<br />\nTopic: Embracing Failure &amp\; Celebrating Success
LOCATION:The Der Dutchman Restaurant & Bakery 445 South Jefferson Avenue Plain City\, OH 43064
UID:e.1767.13645
SEQUENCE:3
DTSTAMP:20260420T083029Z
URL:https://unioncounty.smallnation.co/events/details/plain-city-business-association-pcba-11-27-2024-13645
END:VEVENT

END:VCALENDAR
