BEGIN:VCALENDAR
VERSION:2.0
PRODID:-//ChamberMaster//Event Calendar 2.0//EN
METHOD:PUBLISH
X-PUBLISHED-TTL:P3D
REFRESH-INTERVAL:P3D
CALSCALE:GREGORIAN
BEGIN:VEVENT
DTSTART:20231129T130000Z
DTEND:20231129T140000Z
X-MICROSOFT-CDO-ALLDAYEVENT:FALSE
SUMMARY:Plain City Business Association (PCBA)
DESCRIPTION:PCBA\n\nSpeaker: Business Meeting & Tour at Brick House Blue
X-ALT-DESC;FMTTYPE=text/html:PCBA<br />\nSpeaker: Business Meeting &amp\; Tour at Brick House Blue
LOCATION:Brick House Blue: The Station 215 South Chillicothe Street Plain City
UID:e.1767.7511
SEQUENCE:3
DTSTAMP:20260421T024555Z
URL:https://unioncounty.smallnation.co/events/details/plain-city-business-association-pcba-11-22-2023-7511
END:VEVENT

END:VCALENDAR
