BEGIN:VCALENDAR
VERSION:2.0
PRODID:-//ChamberMaster//Event Calendar 2.0//EN
METHOD:PUBLISH
X-PUBLISHED-TTL:P3D
REFRESH-INTERVAL:P3D
CALSCALE:GREGORIAN
BEGIN:VEVENT
DTSTART:20210825T120000Z
DTEND:20210825T130000Z
X-MICROSOFT-CDO-ALLDAYEVENT:FALSE
SUMMARY:Plain City Business Association (PCBA)
DESCRIPTION:PCBA\n\n\n\nSpeaker: Business Panel    \n\nTopic:
X-ALT-DESC;FMTTYPE=text/html:PCBA<br />\n<br />\nSpeaker: Business Panel&nbsp\;&nbsp\;&nbsp\;&nbsp\;<br />\nTopic:
LOCATION:Der Dutchman Restaurant & Bakery
UID:e.1767.7484
SEQUENCE:3
DTSTAMP:20260422T202402Z
URL:https://unioncounty.smallnation.co/events/details/plain-city-business-association-pcba-08-25-2021-7484
END:VEVENT

END:VCALENDAR
