BEGIN:VCALENDAR
VERSION:2.0
PRODID:-//ChamberMaster//Event Calendar 2.0//EN
METHOD:PUBLISH
X-PUBLISHED-TTL:P3D
REFRESH-INTERVAL:P3D
CALSCALE:GREGORIAN
BEGIN:VEVENT
DTSTART:20220824T120000Z
DTEND:20220824T130000Z
X-MICROSOFT-CDO-ALLDAYEVENT:FALSE
SUMMARY:Plain City Business Association (PCBA)
DESCRIPTION:PCBA\n\nTopic: Village & Economic Development Update
X-ALT-DESC;FMTTYPE=text/html:PCBA<br />\nTopic: Village &amp\; Economic Development Update
LOCATION:Tolles Career & Tech Center 7877 US 42S\, Plain City
UID:e.1767.7496
SEQUENCE:3
DTSTAMP:20260422T011220Z
URL:https://unioncounty.smallnation.co/events/details/plain-city-business-association-pcba-08-24-2022-7496
END:VEVENT

END:VCALENDAR
