BEGIN:VCALENDAR
VERSION:2.0
PRODID:-//ChamberMaster//Event Calendar 2.0//EN
METHOD:PUBLISH
X-PUBLISHED-TTL:P3D
REFRESH-INTERVAL:P3D
CALSCALE:GREGORIAN
BEGIN:VEVENT
DTSTART:20210428T120000Z
DTEND:20210428T130000Z
X-MICROSOFT-CDO-ALLDAYEVENT:FALSE
SUMMARY:Plain City Business Association (PCBA)
DESCRIPTION:PCBA\n\n\n\nSpeaker: Jody Carney\n\nTopic: Plain City Mayor Forum
X-ALT-DESC;FMTTYPE=text/html:PCBA<br />\n<br />\nSpeaker: Jody Carney<br />\nTopic: Plain City Mayor Forum
LOCATION:Virtual & at Der Dutchman 445 South Jefferson Avenue\, Plain City Contact twoodruff@unioncounty.org for Zoom Link
UID:e.1767.7480
SEQUENCE:3
DTSTAMP:20260423T004354Z
URL:https://unioncounty.smallnation.co/events/details/plain-city-business-association-pcba-04-28-2021-7480
END:VEVENT

END:VCALENDAR
