BEGIN:VCALENDAR
VERSION:2.0
PRODID:-//ChamberMaster//Event Calendar 2.0//EN
METHOD:PUBLISH
X-PUBLISHED-TTL:P3D
REFRESH-INTERVAL:P3D
CALSCALE:GREGORIAN
BEGIN:VEVENT
DTSTART:20240327T120000Z
DTEND:20240327T130000Z
X-MICROSOFT-CDO-ALLDAYEVENT:FALSE
SUMMARY:Plain City Business Association (PCBA)
DESCRIPTION:PCBA\n\nSpeaker: Peter Coratola\, Jr.\, CEO\, EASE Logistics\n\nTopic: Leadership vs. Management \n\n\n\nBreakfast & Raffle Sponsor: Franklin University
X-ALT-DESC;FMTTYPE=text/html:PCBA<br />\nSpeaker: Peter Coratola\, Jr.\, CEO\, EASE Logistics<br />\nTopic: Leadership vs. Management&nbsp\;<br />\n<br />\nBreakfast &amp\; Raffle Sponsor: Franklin University
LOCATION:Der Dutchman Restaurant & Bakery 445 South Jefferson Avenue\, Plain City
UID:e.1767.7515
SEQUENCE:3
DTSTAMP:20260420T195818Z
URL:https://unioncounty.smallnation.co/events/details/plain-city-business-association-pcba-03-27-2024-7515
END:VEVENT

END:VCALENDAR
