BEGIN:VCALENDAR
VERSION:2.0
PRODID:-//ChamberMaster//Event Calendar 2.0//EN
METHOD:PUBLISH
X-PUBLISHED-TTL:P3D
REFRESH-INTERVAL:P3D
CALSCALE:GREGORIAN
BEGIN:VEVENT
DTSTART:20240228T130000Z
DTEND:20240228T140000Z
X-MICROSOFT-CDO-ALLDAYEVENT:FALSE
SUMMARY:Plain City Business Association (PCBA)
DESCRIPTION:PCBA\n\nSpeaker: \n\nTopic: Leading Change
X-ALT-DESC;FMTTYPE=text/html:PCBA<br />\nSpeaker:&nbsp\;<br />\nTopic:&nbsp\;Leading Change
LOCATION:The Der Dutchman 445 South Jefferson Avenue\, Plain City
UID:e.1767.7514
SEQUENCE:3
DTSTAMP:20260420T232114Z
URL:https://unioncounty.smallnation.co/events/details/plain-city-business-association-pcba-02-28-2024-7514
END:VEVENT

END:VCALENDAR
