BEGIN:VCALENDAR
VERSION:2.0
PRODID:-//ChamberMaster//Event Calendar 2.0//EN
METHOD:PUBLISH
X-PUBLISHED-TTL:P3D
REFRESH-INTERVAL:P3D
CALSCALE:GREGORIAN
BEGIN:VEVENT
DTSTART:20220126T130000Z
DTEND:20220126T140000Z
X-MICROSOFT-CDO-ALLDAYEVENT:FALSE
SUMMARY:Plain City Business Association (PCBA)
DESCRIPTION:Plain City Business Association Meeting\n\n\n\nSpeaker: Jason Stanford\, Union County Economic Development\n\nTopic: The Future Workforce\n\nHybrid: In Person and via Zoom\n\n(Email twoodruff@unioncounty.org for zoom link)
X-ALT-DESC;FMTTYPE=text/html:Plain City Business Association Meeting<br />\n<br />\nSpeaker: Jason Stanford\, Union County Economic Development<br />\nTopic: The Future Workforce<br />\nHybrid: In Person and via Zoom<br />\n(Email twoodruff@unioncounty.org for zoom link)
LOCATION:Der Dutchman Restaurant and Bakery 445 S Jefferson Avenue Plain City\, OH 43064
UID:e.1767.7489
SEQUENCE:3
DTSTAMP:20260422T114327Z
URL:https://unioncounty.smallnation.co/events/details/plain-city-business-association-pcba-01-26-2022-7489
END:VEVENT

END:VCALENDAR
