BEGIN:VCALENDAR
VERSION:2.0
PRODID:-//ChamberMaster//Event Calendar 2.0//EN
METHOD:PUBLISH
X-PUBLISHED-TTL:P3D
REFRESH-INTERVAL:P3D
CALSCALE:GREGORIAN
BEGIN:VEVENT
DTSTART:20220827T140000Z
DTEND:20220827T170000Z
X-MICROSOFT-CDO-ALLDAYEVENT:FALSE
SUMMARY:One Year Anniversary
DESCRIPTION:Drop by for sweet and savory crepes from Holy Crepes! food truck\, enter to win prizes\, kids games\, and be one of the first 50 guests to receive a goodie bag and comfy t shirt or tank! We are celebrating being open for one year and also a decade of business on the Touch of Therapy side. We can't wait to celebrate with you!!
X-ALT-DESC;FMTTYPE=text/html:Drop by for sweet and savory crepes from Holy Crepes! food truck\, enter to win prizes\, kids games\, and be one of the first 50 guests to receive a goodie bag and comfy t shirt or tank! We are celebrating being open for one year and also a decade of business on the Touch of Therapy side. We can&#39\;t wait to celebrate with you!!
LOCATION:8510 Warner Rd Suite 300 (past the first grey building that says Just Hoops
UID:e.1767.13395
SEQUENCE:3
DTSTAMP:20260422T011017Z
URL:https://unioncounty.smallnation.co/events/details/one-year-anniversary-13395
END:VEVENT

END:VCALENDAR
