BEGIN:VCALENDAR
VERSION:2.0
PRODID:-//ChamberMaster//Event Calendar 2.0//EN
METHOD:PUBLISH
X-PUBLISHED-TTL:P3D
REFRESH-INTERVAL:P3D
CALSCALE:GREGORIAN
BEGIN:VEVENT
DTSTART:20220803T150000Z
DTEND:20220803T160000Z
X-MICROSOFT-CDO-ALLDAYEVENT:FALSE
SUMMARY:Meet & Greet with Congressman Jim Jordan
DESCRIPTION:Meet & Greet with Congressman Jim Jordan
X-ALT-DESC;FMTTYPE=text/html:Meet &amp\; Greet with Congressman Jim Jordan&nbsp\;&nbsp\;&nbsp\;&nbsp\;
LOCATION:M.J. Design Associates 8463 Estates Court Plain City\, OH 43064
UID:e.1767.13391
SEQUENCE:3
DTSTAMP:20260422T024843Z
URL:https://unioncounty.smallnation.co/events/details/meet-greet-with-congressman-jim-jordan-13391
END:VEVENT

END:VCALENDAR
