BEGIN:VCALENDAR
VERSION:2.0
PRODID:-//ChamberMaster//Event Calendar 2.0//EN
METHOD:PUBLISH
X-PUBLISHED-TTL:P3D
REFRESH-INTERVAL:P3D
CALSCALE:GREGORIAN
BEGIN:VEVENT
DTSTART:20220813T120000Z
DTEND:20220813T160000Z
X-MICROSOFT-CDO-ALLDAYEVENT:FALSE
SUMMARY:Master Gardener Plant Sale
DESCRIPTION:Union County Master Gardener 18th Annual Plant Sale. Plants grown by Master Gardeners and sold at very reasonable prices. Selection of sun and shade perennials\, native plants\, bulbs\, day lilies\, etc. Proceeds benefit projects in Union County.
X-ALT-DESC;FMTTYPE=text/html:Union County Master Gardener 18th Annual Plant Sale. Plants grown by Master Gardeners and sold at very reasonable prices. Selection of sun and shade perennials\, native plants\, bulbs\, day lilies\, etc. Proceeds benefit projects in Union County.
LOCATION:Rabbit/Poultry Barn Union County Fairgrounds\, 845 N. Main St.\, Marysville
UID:e.1767.13381
SEQUENCE:3
DTSTAMP:20260422T011440Z
URL:https://unioncounty.smallnation.co/events/details/master-gardener-plant-sale-08-13-2022-13381
END:VEVENT

END:VCALENDAR
