BEGIN:VCALENDAR
VERSION:2.0
PRODID:-//ChamberMaster//Event Calendar 2.0//EN
METHOD:PUBLISH
X-PUBLISHED-TTL:P3D
REFRESH-INTERVAL:P3D
CALSCALE:GREGORIAN
BEGIN:VEVENT
DTSTART:20230812T120000Z
DTEND:20230812T160000Z
X-MICROSOFT-CDO-ALLDAYEVENT:FALSE
SUMMARY:Master Gardener Plant Sale
DESCRIPTION:The Union County Master Gardeners will hold their 19th annual Plant Sale on Sat.\, August 12 at the Union County Fairgrounds\, 845 N. Main St.\, Marysville\, OH\, from 8 a.m. until noon. There will be a selection of sun and shade perennials\, native plants\, shrubs and trees\, grasses\, bulbs and daylilies. Plants are grown by Master Gardeners and sold at very reasonable prices. For more information: 937-644-8117 or visit the web site at https://union.osu.edu or FaceBook page at http://bit.ly/UCMGFB
X-ALT-DESC;FMTTYPE=text/html:The Union County Master Gardeners will hold their 19th annual Plant Sale on Sat.\, August 12 at the Union County Fairgrounds\, 845 N. Main St.\, Marysville\, OH\, from 8 a.m. until noon. There will be a selection of sun and shade perennials\, native plants\, shrubs and trees\, grasses\, bulbs and daylilies. Plants are grown by Master Gardeners and sold at very reasonable prices. For more information: 937-644-8117 or visit the web site at https://union.osu.edu or FaceBook page at http://bit.ly/UCMGFB
LOCATION:Union County Fairgrounds\, 845 N. Main St.\, Marysville\, OH
UID:e.1767.13534
SEQUENCE:3
DTSTAMP:20260421T074932Z
URL:https://unioncounty.smallnation.co/events/details/master-gardener-plant-sale-08-12-2023-13534
END:VEVENT

END:VCALENDAR
