BEGIN:VCALENDAR
VERSION:2.0
PRODID:-//ChamberMaster//Event Calendar 2.0//EN
METHOD:PUBLISH
X-PUBLISHED-TTL:P3D
REFRESH-INTERVAL:P3D
CALSCALE:GREGORIAN
BEGIN:VEVENT
DTSTART:20220817T120000Z
DTEND:20220817T130000Z
X-MICROSOFT-CDO-ALLDAYEVENT:FALSE
SUMMARY:Marysville Business Association
DESCRIPTION:Marysville Business Association\n\nSpeaker/Topic: Hiring & Retention
X-ALT-DESC;FMTTYPE=text/html:Marysville Business Association<br />\nSpeaker/Topic: Hiring &amp\; Retention<br />\n&nbsp\;
LOCATION:The Marysville Elks 125 East Fifth Street\, Marysville
UID:e.1767.12992
SEQUENCE:3
DTSTAMP:20260422T011650Z
URL:https://unioncounty.smallnation.co/events/details/marysville-business-association-08-17-2022-12992
END:VEVENT

END:VCALENDAR
