BEGIN:VCALENDAR
VERSION:2.0
PRODID:-//ChamberMaster//Event Calendar 2.0//EN
METHOD:PUBLISH
X-PUBLISHED-TTL:P3D
REFRESH-INTERVAL:P3D
CALSCALE:GREGORIAN
BEGIN:VEVENT
DTSTART:20200715T120000Z
DTEND:20200715T130000Z
X-MICROSOFT-CDO-ALLDAYEVENT:FALSE
SUMMARY:Marysville Business Association
DESCRIPTION:Marysville Business Association\n\nSpeaker/Topic: Memorial Hospital Update\n\nRaffle Sponsor: Dalton Union Winery\n\nBreakfast Sponsor: Memorial Hospital\n\n10 Minute Spotlight: Pressworks
X-ALT-DESC;FMTTYPE=text/html:Marysville Business Association<br />\nSpeaker/Topic: Memorial Hospital Update<br />\nRaffle Sponsor: Dalton Union Winery<br />\nBreakfast Sponsor: Memorial Hospital<br />\n10 Minute Spotlight: Pressworks
LOCATION:The Marysville Elks 125 E. Fifth St. Marysville\, OH
UID:e.1767.12967
SEQUENCE:3
DTSTAMP:20260425T140522Z
URL:https://unioncounty.smallnation.co/events/details/marysville-business-association-07-15-2020-12967
END:VEVENT

END:VCALENDAR
