BEGIN:VCALENDAR
VERSION:2.0
PRODID:-//ChamberMaster//Event Calendar 2.0//EN
METHOD:PUBLISH
X-PUBLISHED-TTL:P3D
REFRESH-INTERVAL:P3D
CALSCALE:GREGORIAN
BEGIN:VEVENT
DTSTART:20210616T120000Z
DTEND:20210616T130000Z
X-MICROSOFT-CDO-ALLDAYEVENT:FALSE
SUMMARY:Marysville Business Association
DESCRIPTION:Marysville Business Association meets the 3rd Wednesday of the month.\n\nSpeaker/Topic:
X-ALT-DESC;FMTTYPE=text/html:Marysville Business Association meets the 3rd Wednesday of the month.<br />\nSpeaker/Topic:&nbsp\;<br />\n&nbsp\;
LOCATION:The Marysville Elks 125 East Fifth Street Marysville\, 43040
UID:e.1767.12978
SEQUENCE:3
DTSTAMP:20260422T220101Z
URL:https://unioncounty.smallnation.co/events/details/marysville-business-association-06-16-2021-12978
END:VEVENT

END:VCALENDAR
