BEGIN:VCALENDAR
VERSION:2.0
PRODID:-//ChamberMaster//Event Calendar 2.0//EN
METHOD:PUBLISH
X-PUBLISHED-TTL:P3D
REFRESH-INTERVAL:P3D
CALSCALE:GREGORIAN
BEGIN:VEVENT
DTSTART:20220615T120000Z
DTEND:20220615T130000Z
X-MICROSOFT-CDO-ALLDAYEVENT:FALSE
SUMMARY:Marysville Business Association
DESCRIPTION:Marysville Business Association\n\nSpeaker/Topic: What's Your 30 Second Elevator Pitch
X-ALT-DESC;FMTTYPE=text/html:Marysville Business Association<br />\nSpeaker/Topic: What&#39\;s Your 30 Second Elevator Pitch<br />\n&nbsp\;
LOCATION:The Marysville Elks 125 East Fifth Street\, Marysville
UID:e.1767.12990
SEQUENCE:3
DTSTAMP:20260422T043905Z
URL:https://unioncounty.smallnation.co/events/details/marysville-business-association-06-15-2022-12990
END:VEVENT

END:VCALENDAR
