BEGIN:VCALENDAR
VERSION:2.0
PRODID:-//ChamberMaster//Event Calendar 2.0//EN
METHOD:PUBLISH
X-PUBLISHED-TTL:P3D
REFRESH-INTERVAL:P3D
CALSCALE:GREGORIAN
BEGIN:VEVENT
DTSTART:20210519T120000Z
DTEND:20210519T130000Z
X-MICROSOFT-CDO-ALLDAYEVENT:FALSE
SUMMARY:Marysville Business Association
DESCRIPTION:Marysville Business Association\n\nTopic: Tourism Month
X-ALT-DESC;FMTTYPE=text/html:Marysville Business Association<br />\nTopic: Tourism Month<br />\n&nbsp\;
LOCATION:The Elks 125 East Fifth Street\, Marysville
UID:e.1767.12977
SEQUENCE:3
DTSTAMP:20260422T233434Z
URL:https://unioncounty.smallnation.co/events/details/marysville-business-association-05-19-2021-12977
END:VEVENT

END:VCALENDAR
