BEGIN:VCALENDAR
VERSION:2.0
PRODID:-//ChamberMaster//Event Calendar 2.0//EN
METHOD:PUBLISH
X-PUBLISHED-TTL:P3D
REFRESH-INTERVAL:P3D
CALSCALE:GREGORIAN
BEGIN:VEVENT
DTSTART:20240320T120000Z
DTEND:20240320T130000Z
X-MICROSOFT-CDO-ALLDAYEVENT:FALSE
SUMMARY:Marysville Business Association
DESCRIPTION:Marysville Business Association\n\nSpeaker/Topic: Jordan Treadway with Richwood Marketing\, "Leadership"
X-ALT-DESC;FMTTYPE=text/html:Marysville Business Association<br />\nSpeaker/Topic: Jordan Treadway with Richwood Marketing\, &quot\;Leadership&quot\;<br />\n&nbsp\;
LOCATION:The Marysville Elks 125 East Fifth Street\, Marysville
UID:e.1767.13011
SEQUENCE:3
DTSTAMP:20260420T200024Z
URL:https://unioncounty.smallnation.co/events/details/marysville-business-association-03-20-2024-13011
END:VEVENT

END:VCALENDAR
