BEGIN:VCALENDAR
VERSION:2.0
PRODID:-//ChamberMaster//Event Calendar 2.0//EN
METHOD:PUBLISH
X-PUBLISHED-TTL:P3D
REFRESH-INTERVAL:P3D
CALSCALE:GREGORIAN
BEGIN:VEVENT
DTSTART:20220316T120000Z
DTEND:20220316T130000Z
X-MICROSOFT-CDO-ALLDAYEVENT:FALSE
SUMMARY:Marysville Business Association
DESCRIPTION:Marysville Business Association\n\nSpeaker/Topic: Economic Update\, SMART Corridor\, & Hyperloop
X-ALT-DESC;FMTTYPE=text/html:Marysville Business Association<br />\nSpeaker/Topic: Economic Update\, SMART Corridor\, &amp\; Hyperloop<br />\n&nbsp\;
LOCATION:The Marysville Elks 125 East Fifth Street\, Marysville
UID:e.1767.12987
SEQUENCE:3
DTSTAMP:20260422T104504Z
URL:https://unioncounty.smallnation.co/events/details/marysville-business-association-03-16-2022-12987
END:VEVENT

END:VCALENDAR
