BEGIN:VCALENDAR
VERSION:2.0
PRODID:-//ChamberMaster//Event Calendar 2.0//EN
METHOD:PUBLISH
X-PUBLISHED-TTL:P3D
REFRESH-INTERVAL:P3D
CALSCALE:GREGORIAN
BEGIN:VEVENT
DTSTART:20220216T130000Z
DTEND:20220216T140000Z
X-MICROSOFT-CDO-ALLDAYEVENT:FALSE
SUMMARY:Marysville Business Association
DESCRIPTION:Marysville Business Association\n\nSpeaker/Topic: Union County Health Department - UCI Care\, COVID\, & Trails
X-ALT-DESC;FMTTYPE=text/html:Marysville Business Association<br />\nSpeaker/Topic: Union County Health Department - UCI Care\, COVID\, &amp\; Trails<br />\n&nbsp\;
LOCATION:The Marysville Elks 125 East Fifth Street\, Marysville
UID:e.1767.12986
SEQUENCE:3
DTSTAMP:20260422T102201Z
URL:https://unioncounty.smallnation.co/events/details/marysville-business-association-02-16-2022-12986
END:VEVENT

END:VCALENDAR
