BEGIN:VCALENDAR
VERSION:2.0
PRODID:-//ChamberMaster//Event Calendar 2.0//EN
METHOD:PUBLISH
X-PUBLISHED-TTL:P3D
REFRESH-INTERVAL:P3D
CALSCALE:GREGORIAN
BEGIN:VEVENT
DTSTART:20230118T130000Z
DTEND:20230118T140000Z
X-MICROSOFT-CDO-ALLDAYEVENT:FALSE
SUMMARY:Marysville Business Association
DESCRIPTION:Marysville Business Association\n\nSpeaker/Topic: Real Estate Evaluation Update with Andrea Weaver\n\nand Impact Station Information from Corinne Bix
X-ALT-DESC;FMTTYPE=text/html:Marysville Business Association<br />\nSpeaker/Topic: Real Estate Evaluation Update with Andrea Weaver<br />\nand Impact Station Information from Corinne Bix<br />\n&nbsp\;
LOCATION:The Marysville Elks 125 East Fifth Street\, Marysville
UID:e.1767.12997
SEQUENCE:3
DTSTAMP:20260421T184153Z
URL:https://unioncounty.smallnation.co/events/details/marysville-business-association-01-18-2023-12997
END:VEVENT

END:VCALENDAR
