BEGIN:VCALENDAR
VERSION:2.0
PRODID:-//ChamberMaster//Event Calendar 2.0//EN
METHOD:PUBLISH
X-PUBLISHED-TTL:P3D
REFRESH-INTERVAL:P3D
CALSCALE:GREGORIAN
BEGIN:VEVENT
DTSTART:20210930T130000Z
DTEND:20210930T140000Z
X-MICROSOFT-CDO-ALLDAYEVENT:FALSE
SUMMARY:Insights & Experts: Don't Let Life Be a Breach! Common Cyber Attacks from the Community Banking World
DESCRIPTION:Clarity Technology Solutions is pleased to announce the next insights and experts to help Small-Medium Businesses learn about important topics that shape their business outcomes. It is not a normal webinar where there are powerpoints\, but industry experts speak on a panel on various topics. By popular request wee have chosen a hot topic:\n\nDon't let life be a Breach! Common Cyber Attacks \n\nfrom the Community Banking World\n\n \n\nOur discussion is live and allows you to submit questions directly to the panel to get your answers.
X-ALT-DESC;FMTTYPE=text/html:<div style="text-align: center\;"><span style="color:#403F42"><span style="font-family:arial\,sans-serif"><span style="font-size:10.5pt">Clarity Technology Solutions is pleased to announce the next insights and experts to help Small-Medium Businesses learn about important topics that shape their business outcomes. It is not a normal webinar where there are powerpoints\, but industry experts speak on a panel on various topics. By popular request wee have chosen a hot topic:</span></span></span><br />\n<strong><span style="color:#F68B1E"><span style="font-family:arial\,sans-serif"><span style="font-size:10.5pt">Don&#39\;t let life be a Breach! Common Cyber Attacks </span></span></span></strong><br />\n<strong><span style="color:#F68B1E"><span style="font-family:arial\,sans-serif"><span style="font-size:10.5pt">from the Community Banking World</span></span></span></strong><br />\n&nbsp\;<br />\n<span style="color:#403F42"><span style="font-family:arial\,sans-serif"><span style="font-size:10.5pt">Our discussion is live and allows you to submit questions directly to the panel to get your answers.</span></span></span></div>\n
LOCATION:Webinar
UID:e.1767.13162
SEQUENCE:3
DTSTAMP:20260422T190915Z
URL:https://unioncounty.smallnation.co/events/details/insights-experts-don-t-let-life-be-a-breach-common-cyber-attacks-from-the-community-banking-world-13162
END:VEVENT

END:VCALENDAR
