BEGIN:VCALENDAR
VERSION:2.0
PRODID:-//ChamberMaster//Event Calendar 2.0//EN
METHOD:PUBLISH
X-PUBLISHED-TTL:P3D
REFRESH-INTERVAL:P3D
CALSCALE:GREGORIAN
BEGIN:VEVENT
DTSTART:20201210T130000Z
DTEND:20201210T140000Z
X-MICROSOFT-CDO-ALLDAYEVENT:FALSE
SUMMARY:Industrial Parkway Association - Christmas Breakfast
DESCRIPTION:Industrial Parkway Association\n\n\n\nSpeaker: Union Rural Electric\n\nSponsor: Union Rural Electric
X-ALT-DESC;FMTTYPE=text/html:Industrial Parkway Association<br />\n<br />\nSpeaker: Union Rural Electric<br />\nSponsor: Union Rural Electric
LOCATION:Zoom
UID:e.1767.10435
SEQUENCE:3
DTSTAMP:20260423T060620Z
URL:https://unioncounty.smallnation.co/events/details/industrial-parkway-association-christmas-breakfast-10435
END:VEVENT

END:VCALENDAR
