BEGIN:VCALENDAR
VERSION:2.0
PRODID:-//ChamberMaster//Event Calendar 2.0//EN
METHOD:PUBLISH
X-PUBLISHED-TTL:P3D
REFRESH-INTERVAL:P3D
CALSCALE:GREGORIAN
BEGIN:VEVENT
DTSTART:20241114T130000Z
DTEND:20241114T140000Z
X-MICROSOFT-CDO-ALLDAYEVENT:FALSE
SUMMARY:Industrial Parkway Association
DESCRIPTION:Industrial Parkway Association\n\n\n\nTopic: Zoning Update
X-ALT-DESC;FMTTYPE=text/html:Industrial Parkway Association<br />\n<br />\nTopic: Zoning Update
LOCATION:Jerome Township Hall 9777 Industrial Parkway Plain City\, 43064
UID:e.1767.14164
SEQUENCE:3
DTSTAMP:20260422T090103Z
URL:https://unioncounty.smallnation.co/events/details/industrial-parkway-association-11-14-2024-14164
END:VEVENT

END:VCALENDAR
