BEGIN:VCALENDAR
VERSION:2.0
PRODID:-//ChamberMaster//Event Calendar 2.0//EN
METHOD:PUBLISH
X-PUBLISHED-TTL:P3D
REFRESH-INTERVAL:P3D
CALSCALE:GREGORIAN
BEGIN:VEVENT
DTSTART:20290913T120000Z
DTEND:20290913T130000Z
X-MICROSOFT-CDO-ALLDAYEVENT:FALSE
SUMMARY:Industrial Parkway Association (IPA)
DESCRIPTION:Industrial Parkway Association Monthly Meeting
X-ALT-DESC;FMTTYPE=text/html:<span style="font-size:12px\;">Industrial Parkway Association Monthly Meeting</span>
LOCATION:Jerome Township Hall 9777 Industrial Parkway Plain City\, OH 43064
UID:e.1767.14222
SEQUENCE:3
DTSTAMP:20260425T230250Z
URL:https://unioncounty.smallnation.co/events/details/industrial-parkway-association-09-13-2029-14222
END:VEVENT

END:VCALENDAR
