BEGIN:VCALENDAR
VERSION:2.0
PRODID:-//ChamberMaster//Event Calendar 2.0//EN
METHOD:PUBLISH
X-PUBLISHED-TTL:P3D
REFRESH-INTERVAL:P3D
CALSCALE:GREGORIAN
BEGIN:VEVENT
DTSTART:20210909T120000Z
DTEND:20210909T130000Z
X-MICROSOFT-CDO-ALLDAYEVENT:FALSE
SUMMARY:Industrial Parkway Association
DESCRIPTION:Industrial Parkway\n\n\n\nTopic- Leadership: The Mindset Advantage
X-ALT-DESC;FMTTYPE=text/html:Industrial Parkway<br />\n<br />\nTopic- Leadership: The Mindset Advantage
LOCATION:Jerome Township Hall 9777 Industrial Parkway\, Plain City
UID:e.1767.10444
SEQUENCE:3
DTSTAMP:20260422T173920Z
URL:https://unioncounty.smallnation.co/events/details/industrial-parkway-association-09-09-2021-10444
END:VEVENT

END:VCALENDAR
